BEGIN:VCALENDAR
VERSION:2.0
PRODID:-//My Community Diary//iCal Event//EN
CALSCALE:GREGORIAN
METHOD:PUBLISH
BEGIN:VEVENT
UID:acfe9b2b-44d7-4a41-a684-eeae229cd549
DTSTAMP:20260424T164435Z
DTSTART:20240106T000000Z
DTEND:20240106T235959Z
SUMMARY:Condo 750
DESCRIPTION:The  Condo 750 is an off road navigational rally for motorbikes\, cars\, buggies\, quads and motorbikes with sidecars. This annual event attracts competitors from all over Australia including Dakar riders and Australian Safari winners as well as numerous other riders and whose aim is just to finish the gruelling 750 kilometres track. .\n\nAutos compete as 2WD\, 4WD or buggies and boast local and interstate competitors. Motos compete as two wheeler\, quad or their newest addition\, the motorbike with sidecar class. Admission is free to all official Slattery Auctions Condo 750 events held over two day period.
LOCATION:\, Parkes Road\, Condobolin\, NSW 2877\, NSW\, 2877
RRULE:FREQ=DAILY;INTERVAL=1;UNTIL=20240408T000000Z
END:VEVENT
END:VCALENDAR
