BEGIN:VCALENDAR
VERSION:2.0
PRODID:-//My Community Diary//iCal Event//EN
CALSCALE:GREGORIAN
METHOD:PUBLISH
BEGIN:VEVENT
UID:44e10ad5-0f01-4a7e-96f4-a19524e4785d
DTSTAMP:20260424T160626Z
DTSTART:20201207T080000Z
DTEND:20201207T170000Z
SUMMARY:Diabetes Education - Innisfail
DESCRIPTION:Ingrid Hagne T/As Diabetes and Health Solutions at Mamu Health Service Limited - Innisfail. Please confirm precise times with the service provider.
LOCATION:\, 10 Ernest Street\, Innisfail\, QLD\, 4860\, QLD\, 4860
END:VEVENT
END:VCALENDAR
