BEGIN:VCALENDAR
VERSION:2.0
PRODID:-//My Community Diary//iCal Event//EN
CALSCALE:GREGORIAN
METHOD:PUBLISH
BEGIN:VEVENT
UID:b91a160e-a327-47a1-abbc-e0ac657e4f61
DTSTAMP:20260424T160624Z
DTSTART:20201201T080000Z
DTEND:20201201T170000Z
SUMMARY:Physician - Paediatrics - General - Barcaldine
DESCRIPTION:Central West Hospital and Health Service at Barcaldine Hospital. Please confirm precise times with the service provider.
LOCATION:\, Oak Street\, Barcaldine\, QLD\, 4725\, QLD\, 4725
END:VEVENT
END:VCALENDAR
