BEGIN:VCALENDAR
VERSION:2.0
PRODID:-//My Community Diary//iCal Event//EN
CALSCALE:GREGORIAN
METHOD:PUBLISH
BEGIN:VEVENT
UID:e56588d7-f1f7-487f-b768-3339814f9b2f
DTSTAMP:20260424T155958Z
DTSTART:20201207T080000Z
DTEND:20201207T170000Z
SUMMARY:General Practitioner - Wowan
DESCRIPTION:Rural Health Management Services at Wowan Dululu Multi-purpose Centre. Please confirm precise times with the service provider.
LOCATION:\, Railway Ave\, Wowan\, QLD\, 4702\, QLD\, 4702
END:VEVENT
END:VCALENDAR
