BEGIN:VCALENDAR
VERSION:2.0
PRODID:-//My Community Diary//iCal Event//EN
CALSCALE:GREGORIAN
METHOD:PUBLISH
BEGIN:VEVENT
UID:b900be7d-c556-4558-aa2c-6929b137a79b
DTSTAMP:20260424T160000Z
DTSTART:20201202T080000Z
DTEND:20201202T120000Z
SUMMARY:Registered Nurse - Wowan
DESCRIPTION:Wowan Dululu Community Volunteer Group Inc at Wowan Dululu Multi-purpose Centre. Please confirm precise times with the service provider.
LOCATION:\, Railway Ave\, Wowan\, QLD\, 4702\, QLD\, 4702
END:VEVENT
END:VCALENDAR
