BEGIN:VCALENDAR
VERSION:2.0
PRODID:-//My Community Diary//iCal Event//EN
CALSCALE:GREGORIAN
METHOD:PUBLISH
BEGIN:VEVENT
UID:00c1a4d5-69e4-4aa3-b69c-3096def59191
DTSTAMP:20260424T160640Z
DTSTART:20210214T080000Z
DTEND:20210214T170000Z
SUMMARY:General Practitioner - Womens Health - Moura
DESCRIPTION:True Relationships & Reproductive Health at Moura Hospital. Please confirm precise times with the service provider.
LOCATION:\, 14 Nott Street\, Moura\, QLD\, 4718\, QLD\, 4718
END:VEVENT
END:VCALENDAR
