BEGIN:VCALENDAR
VERSION:2.0
PRODID:-//My Community Diary//iCal Event//EN
CALSCALE:GREGORIAN
METHOD:PUBLISH
BEGIN:VEVENT
UID:32327c04-04c2-4211-8763-1ea2bb3ad7e1
DTSTAMP:20260424T160644Z
DTSTART:20210124T080000Z
DTEND:20210124T170000Z
SUMMARY:Diabetes Education - Mareeba
DESCRIPTION:Ingrid Hagne T/As Diabetes and Health Solutions at Mulungu Aboriginal Corporation Medical Centre - Mareeba. Please confirm precise times with the service provider.
LOCATION:\, 162-164 Walsh Street\, Mareeba\, QLD\, 4880\, QLD\, 4880
END:VEVENT
END:VCALENDAR
