BEGIN:VCALENDAR
VERSION:2.0
PRODID:-//My Community Diary//iCal Event//EN
CALSCALE:GREGORIAN
METHOD:PUBLISH
BEGIN:VEVENT
UID:c92eb2d4-5ca5-4b93-b9c2-b7a919e43347
DTSTAMP:20260424T160644Z
DTSTART:20201214T080000Z
DTEND:20201214T170000Z
SUMMARY:Dietetics - Theodore
DESCRIPTION:LiveBetter Services Ltd at Theodore Medical Centre. Please confirm precise times with the service provider.
LOCATION:\, 27 Ninth Ave\, Theodore\, QLD\, 4719\, QLD\, 4719
END:VEVENT
END:VCALENDAR
