BEGIN:VCALENDAR
VERSION:2.0
PRODID:-//My Community Diary//iCal Event//EN
CALSCALE:GREGORIAN
METHOD:PUBLISH
BEGIN:VEVENT
UID:507ef437-2f05-4580-abce-6f7fa5a2cdfe
DTSTAMP:20260424T160635Z
DTSTART:20210218T080000Z
DTEND:20210218T170000Z
SUMMARY:Physician - Gastroenterology - Longreach
DESCRIPTION:Dr Mark Norrie at Longreach Hospital. Please confirm precise times with the service provider.
LOCATION:\, Jabiru Street\, Longreach\, QLD\, 4730\, QLD\, 4730
END:VEVENT
END:VCALENDAR
