BEGIN:VCALENDAR
VERSION:2.0
PRODID:-//My Community Diary//iCal Event//EN
CALSCALE:GREGORIAN
METHOD:PUBLISH
BEGIN:VEVENT
UID:877b84c4-a3a5-4617-b7ac-3fc172ac0c5d
DTSTAMP:20260421T222237Z
DTSTART;TZID=E. Australia Standard Time:20260506T103000
DTEND;TZID=E. Australia Standard Time:20260506T120000
SUMMARY:Mini & Me Session 1
DESCRIPTION:Mini &amp\; Me is a free program for parents aged 21 and under. Drop in anytime\, enjoy a cuppa and morning tea\, and connect with other young parents in a relaxed\, welcoming space. Each week features a special guest sharing helpful tips and ideas. Feel free to bring a friend along!\n\nGuest speaker Dietitian Charlotte Battle shares simple\, realistic ways to eat well while juggling parenthood.\n
LOCATION:Granite Belt Neighbourhood Centre - 8 Corundum St\, 8 Corundum St.\, Stanthorpe QLD 4380\, QLD\, 4380
END:VEVENT
END:VCALENDAR
