BEGIN:VCALENDAR
VERSION:2.0
PRODID:-//My Community Diary//iCal Event//EN
CALSCALE:GREGORIAN
METHOD:PUBLISH
BEGIN:VEVENT
UID:dad0649f-1a7b-422c-b668-eba22e79a947
DTSTAMP:20260422T000653Z
DTSTART;TZID=E. Australia Standard Time:20260608T093000
DTEND;TZID=E. Australia Standard Time:20260608T113000
SUMMARY:Baby & Me Session 5
DESCRIPTION:Guidance through movement and exercises to strengthen pelvic muscles with Melissa Miller from Rawology.\n\n&nbsp\;\n\n&nbsp\;\n\n&nbsp\;\n\n&nbsp\;\n
LOCATION:Granite Belt Neighbourhood Centre - 8 Corundum St\, 8 Corundum St.\, Stanthorpe QLD 4380\, QLD\, 4380
END:VEVENT
END:VCALENDAR
