BEGIN:VCALENDAR
VERSION:2.0
PRODID:-//My Community Diary//iCal Event//EN
CALSCALE:GREGORIAN
METHOD:PUBLISH
BEGIN:VEVENT
UID:720affb3-3264-4664-8dd7-76af7656dceb
DTSTAMP:20260422T013730Z
DTSTART;TZID=E. Australia Standard Time:20260601T093000
DTEND;TZID=E. Australia Standard Time:20260601T113000
SUMMARY:Baby & Me Session 4
DESCRIPTION:Fiona Sweet will talk through understanding baby’s needs and developmental stages\, followed up with information from our Early Years team on ongoing community supports.\n
LOCATION:Granite Belt Neighbourhood Centre - 8 Corundum St\, 8 Corundum St.\, Stanthorpe QLD 4380\, QLD\, 4380
END:VEVENT
END:VCALENDAR
