BEGIN:VCALENDAR
VERSION:2.0
PRODID:-//My Community Diary//iCal Event//EN
CALSCALE:GREGORIAN
METHOD:PUBLISH
BEGIN:VEVENT
UID:a727a181-7117-4bfe-8f52-eb533be0b4cd
DTSTAMP:20260422T013837Z
DTSTART;TZID=E. Australia Standard Time:20260525T093000
DTEND;TZID=E. Australia Standard Time:20260525T113000
SUMMARY:Baby & Me Session 3
DESCRIPTION:Session 3: Infant First Aid\n\nLearn about basic first aid with Gail Smail and what to do should your little one need assistance in an emergency.\n
LOCATION:Granite Belt Neighbourhood Centre - 8 Corundum St\, 8 Corundum St.\, Stanthorpe QLD 4380\, QLD\, 4380
END:VEVENT
END:VCALENDAR
