BEGIN:VCALENDAR
VERSION:2.0
PRODID:-//My Community Diary//iCal Event//EN
CALSCALE:GREGORIAN
METHOD:PUBLISH
BEGIN:VEVENT
UID:529910f1-8fa6-4bf1-8721-4144e59bf254
DTSTAMP:20260421T224319Z
DTSTART;TZID=E. Australia Standard Time:20260518T093000
DTEND;TZID=E. Australia Standard Time:20260518T113000
SUMMARY:Baby & Me Session 2
DESCRIPTION:Session 2: Baby’s Sleep Routines\n\nA holistic information session on children’s sleep rhythms and sleep needs. With Rebekkah Achenbach from Southern Downs Sleep Consultant.\n\n&nbsp\;\n
LOCATION:Granite Belt Neighbourhood Centre - 8 Corundum St\, 8 Corundum St.\, Stanthorpe QLD 4380\, QLD\, 4380
END:VEVENT
END:VCALENDAR
