BEGIN:VCALENDAR
VERSION:2.0
PRODID:-//My Community Diary//iCal Event//EN
CALSCALE:GREGORIAN
METHOD:PUBLISH
BEGIN:VEVENT
UID:7b2c282a-ec60-45a7-8ac2-a2ac60e4c24c
DTSTAMP:20260421T222619Z
DTSTART;TZID=E. Australia Standard Time:20260511T213000
DTEND;TZID=E. Australia Standard Time:20260511T233000
SUMMARY:Baby & Me Session 1
DESCRIPTION:Session 1: Early Feeding Support\n\nInformation on breastfeeding &amp\; supports available with Leah Furness from Australian Breastfeeding Association &amp\; an overview of introducing solids to your baby with Dietitian Caitlyn Henderson.\n
LOCATION:Granite Belt Neighbourhood Centre - 8 Corundum St\, 8 Corundum St.\, Stanthorpe QLD 4380\, QLD\, 4380
END:VEVENT
END:VCALENDAR
