BEGIN:VCALENDAR
VERSION:2.0
PRODID:-//My Community Diary//iCal Event//EN
CALSCALE:GREGORIAN
METHOD:PUBLISH
BEGIN:VEVENT
UID:1e8fbb87-c0e1-431a-aaf1-c38382dc01c1
DTSTAMP:20260421T224422Z
DTSTART:20260510T100000Z
DTEND:20260510T140000Z
SUMMARY:Mother's Day Picnic
DESCRIPTION:Always a popular day\, The Hunter Region Botanic Gardens will once again open up to mums and families to celebrate Mother's Day on Sunday 10th May. Bring a picnic or grab a snack and coffee in the Kookaburra Cafe. Our famous scone stall will also be operating. There will be music from 'Jumpin' Jukebox' to entertain you and card readings available with Deb Jackson. Every mum receives a FREE plant and there will be a kid's tent so a gift can be made for mum on the day.\nGrazing platters can be purchased in advance\, or book a table.\nTickets via Humanitix: https://events.humanitix.com/mother-s-day-picnic\n\n
LOCATION:Hunter Region Botanic Gardens\, Hunter Region Botanic Gardens\, Pacific Highway\, Heatherbrae NSW\, Australia\, NSW
END:VEVENT
END:VCALENDAR
