BEGIN:VCALENDAR
VERSION:2.0
PRODID:-//My Community Diary//iCal Event//EN
CALSCALE:GREGORIAN
METHOD:PUBLISH
BEGIN:VEVENT
UID:1c2d61cf-69df-4377-9f61-fbec4197e347
DTSTAMP:20260421T224106Z
DTSTART:20260423T100000Z
DTEND:20260423T150000Z
SUMMARY:Bring your Bills Day
DESCRIPTION:Worried about your energy and water bills ?\nGet support at bring your bills day at Raymond Terrace. \n\nBring any bills you are concerned about\, and our team will provide advice about assistance and more.\n\nThursday 23 April at Port Stephen Council Building.\n\nWe can also help land holders and community members impacted by renewable energy infrastructure development.\n\nEnergy and Water Ombudsman NSW
LOCATION:PORT STEPHENS COUNCIL BUILDING\, 116 Adelaide Street\, Raymond Terrace NSW\, Australia\, NSW
END:VEVENT
END:VCALENDAR
