BEGIN:VCALENDAR
VERSION:2.0
PRODID:-//My Community Diary//iCal Event//EN
CALSCALE:GREGORIAN
METHOD:PUBLISH
BEGIN:VEVENT
UID:1fdc3327-556d-469b-b09e-e07eae4798f5
DTSTAMP:20260422T050239Z
DTSTART;TZID=AUS Eastern Standard Time:20260429T100000
DTEND;TZID=AUS Eastern Standard Time:20260429T113000
SUMMARY:Term 2 classes start this week in Moruya
DESCRIPTION:Term 2 classes start this week in Moruya\n
LOCATION:Country Health Tai Chi & Qigong - Moruya\, 11 Page Street\, Moruya NSW 2537\, NSW\, 2537
END:VEVENT
END:VCALENDAR
