BEGIN:VCALENDAR
VERSION:2.0
PRODID:-//My Community Diary//iCal Event//EN
CALSCALE:GREGORIAN
METHOD:PUBLISH
BEGIN:VEVENT
UID:cbb28e3a-1445-4e0f-b4ba-ef4884048552
DTSTAMP:20260422T020154Z
DTSTART;TZID=AUS Eastern Standard Time:20260430T100000
DTEND;TZID=AUS Eastern Standard Time:20260430T110000
SUMMARY:Term 2 classes start this week in Tuross Head
DESCRIPTION:Term 2 classes start this week in Tuross Head\n
LOCATION:Country Health Tai Chi & Qigong - Tuross Head\, LOT 80 Hector McWilliam Drive\, Tuross Head NSW 2537\, NSW\, 2537
END:VEVENT
END:VCALENDAR
