BEGIN:VCALENDAR
VERSION:2.0
PRODID:-//My Community Diary//iCal Event//EN
CALSCALE:GREGORIAN
METHOD:PUBLISH
BEGIN:VEVENT
UID:a72eea92-1bf0-4ee3-b233-b7745b8a0b77
DTSTAMP:20260421T222303Z
DTSTART;TZID=AUS Eastern Standard Time:20260604T180000
DTEND;TZID=AUS Eastern Standard Time:20260604T193000
SUMMARY:In Conversations: Peter Mitchell
DESCRIPTION:Join us in store with author Peter Mitchell\, in conversation with historian &amp\; writer Michael McKernan.\n\nLaunching his new book\,&nbsp\;I'll Walk Beside You\, Peter gives us a vivid portrait of the most desperate chapter in our nation’s history. Written from never seen before letters\, diaries and oral histories this book weaves a story of soldiers against a parallel story of love between real life couple Jean and Cal. &nbsp\;\n\nTold through the perspective of ordinary men drawn into the heart of war\, I’ll Walk Beside You is an ode to heroism\, the unyielding human spirit\, and enduring resilience that shaped Australia’s military history.&nbsp\;\n\nPeter is the author of Under the Same Moon (Big Sky Publishing\, 2025). He is a lawyer by training and was a partner in a major law firm. After leaving the law\, he ran a regional non-profit organisation for many years\, based in Singapore. History is his passion. He has an extensive library (and music collection) and has read widely on the Second World War and other periods of history after growing up listening to his father and his friends regularly talk about their own wartime experiences. He lived in Singapore for twenty years and has travelled and worked extensively throughout Asia\, visiting most of the locations written about in I’ll Walk Beside You. &nbsp\;\n\nMichael McKernan is an historian and writer with extensive experience in teaching and research\, management\, the media and the practical presentation of history. He is a leading commentator on commemoration in Australia. He has worked closely with successive Governors-General and Prime Ministers on matters of national significance. At the Australian War Memorial he continued to write and to publish\, including the first substantial history of one of Australia’s most cherished institutions\,&nbsp\;Here Is Their Spirit: a history of the Australian War Memorial 1917-1990.\n\nThe evening will start with a Q&amp\;A conversation followed by the opportunity to have your book signed by Peter. Ticket includes admission &amp\; light refreshments.\n\nCopies of&nbsp\;I'll Walk Beside You&nbsp\;will be available to purchase at the event.&nbsp\;\n
LOCATION:Dymocks Canberra\, Canberra Centre\, Bunda Street\, Canberra ACT\, Australia\, ACT\, 2601
END:VEVENT
END:VCALENDAR
