BEGIN:VCALENDAR
VERSION:2.0
PRODID:-//My Community Diary//iCal Event//EN
CALSCALE:GREGORIAN
METHOD:PUBLISH
BEGIN:VEVENT
UID:65335799-b50e-4664-b5e0-772cae138218
DTSTAMP:20260422T032432Z
DTSTART;TZID=AUS Eastern Standard Time:20260429T110000
DTEND;TZID=AUS Eastern Standard Time:20260429T120000
SUMMARY:Finding Your Voice
DESCRIPTION:Finding Your Voice Free Program at Moorabbin Activity Hub\n\nThere's nothing better than a feel-good sing-along with others to lift your spirits.\n\nA new song theme is introduced each week\, with an emphasis on fun and merry music-making. All adult ages are welcome\, at any level.\n\nLook at our favourites to sing:\n\n&nbsp\;Can't Help Falling in Love - Elvis Presley\nThat's Amore - Dean Martin\nCan’t Take My Eyes Off You – Frankie Valli\nSway – Michael Bublé-Dean Martin\nSweet Caroline – Neil Diamond\nQue Sera Sera - Doris Day\nIt’s Now or Never – Elvis Presley\nI’m a Believer – The Monkes\nDancing Queen– ABBA\nOh\, Pretty Woman - Roy Orbinson\nLove is in the air – John Paul Young\n
LOCATION:Triumph of Good Incorporated\, 964 Nepean Highway\, Moorabbin VIC 3189\, VIC\, 3189
RRULE:FREQ=WEEKLY;INTERVAL=1;BYDAY=WE;UNTIL=20260625T000000Z
END:VEVENT
END:VCALENDAR
