BEGIN:VCALENDAR
VERSION:2.0
PRODID:-//My Community Diary//iCal Event//EN
CALSCALE:GREGORIAN
METHOD:PUBLISH
BEGIN:VEVENT
UID:4d6085ad-ce9e-4419-b1ab-ffade608df0b
DTSTAMP:20260422T050849Z
DTSTART;TZID=AUS Eastern Standard Time:20260509T110000
DTEND;TZID=AUS Eastern Standard Time:20260509T120000
SUMMARY:LitUp Presents: Dub Leffler at Wallsend Library
DESCRIPTION:Join us at Wallsend Library for a special LitUp Program event featuring award-winning author and illustrator Dub Leffler. In this inspiring all-ages celebration\, Dub will host a 1-hour workshop sharing his creative process—from illustrating picture books to exploring techniques like “reading scribbles” and drawing with the right side of the brain. The event opens with a vibrant performance by an Aboriginal Dance and Yidaki group from Raymond Terrace Public School.\n\nWith a 25-year career\, over 30 books\, and accolades including the 2019 CBCA Book of the Year for Sorry Day\, Dub’s work is celebrated worldwide. Books will be available for purchase from MacLean’s Booksellers\, with a signing session to follow. Enjoy light refreshments—this free event is not to be missed\, but bookings are essential!&nbsp\;&nbsp\;If you have any access or inclusion needs\, you will be able to advise us when booking.\n
LOCATION:Wallsend Library\, 30 Bunn Street\, Wallsend NSW 2287\, NSW\, 2287
END:VEVENT
END:VCALENDAR
