BEGIN:VCALENDAR
VERSION:2.0
PRODID:-//My Community Diary//iCal Event//EN
CALSCALE:GREGORIAN
METHOD:PUBLISH
BEGIN:VEVENT
UID:43d36bee-22c5-4c0b-9e1a-7d0e82454043
DTSTAMP:20260422T000521Z
DTSTART;TZID=AUS Eastern Standard Time:20260512T190000
DTEND;TZID=AUS Eastern Standard Time:20260512T210000
SUMMARY:Mens Wellbeing Group
DESCRIPTION:Mens Wellbeing Inc is a community of "men supporting men"\n\nIt runs every second Tuesday of the month - 7pm - 9pm\n\nMordialloc Neighbourhood House - 457 Main Street\, Mordialloc 3195\n
LOCATION:Mordialloc Neighbourhood House\, Mordialloc VIC 3195\, VIC\, 3195
RRULE:FREQ=MONTHLY;INTERVAL=1;BYMONTHDAY=12;COUNT=7
END:VEVENT
END:VCALENDAR
