BEGIN:VCALENDAR
VERSION:2.0
PRODID:-//My Community Diary//iCal Event//EN
CALSCALE:GREGORIAN
METHOD:PUBLISH
BEGIN:VEVENT
UID:53051c9a-b525-4d9d-b451-2664146590f1
DTSTAMP:20260421T223019Z
DTSTART;TZID=AUS Eastern Standard Time:20260423T130000
DTEND;TZID=AUS Eastern Standard Time:20260423T150000
SUMMARY:SING WITH YES I CAN! GIPPSLAND CHOIR
DESCRIPTION:YES I CAN! Gippsland Choir invites you to join us for exciting rehearsals and performances led by the highly talented\, Caroline Crawford.\n\nNO AUDITIONS - JUST BYO VOICE\n\nWe sing a diverse range of music from pop to rock\, music theatre\, world music and everything in between for our performances locally in the Latrobe Valley area. We also combine with other Play It Forward choirs for fundraising events.\n\nClick HERE for further information\n\nEvery Voice Deserves to be Heard\n
LOCATION:\, 100 Grey Street\, Traralgon VIC\, Australia\, VIC\, 3844
RRULE:FREQ=WEEKLY;INTERVAL=1;BYDAY=TH;UNTIL=20260626T000000Z
END:VEVENT
END:VCALENDAR
