BEGIN:VCALENDAR
VERSION:2.0
PRODID:-//My Community Diary//iCal Event//EN
CALSCALE:GREGORIAN
METHOD:PUBLISH
BEGIN:VEVENT
UID:e664bc9c-2205-4833-8867-14b01cada7cc
DTSTAMP:20260421T222237Z
DTSTART;TZID=AUS Eastern Standard Time:20260422T190000
DTEND;TZID=AUS Eastern Standard Time:20260422T210000
SUMMARY:SING WITH THECHO!R
DESCRIPTION:THECHO!R invites you to join us for exciting rehearsals as we welcome our exciting new Music Director - Alex Morris.\n\nNO AUDITIONS - JUST BYO VOICE\n\nWe sing a diverse range of music from pop to rock\, music theatre\, world music and everything in between for our performances locally in Melbourne. We also combine with other Play It Forward choirs for fundraising events.\n\nClick HERE to find out all the details&nbsp\;\n\nEvery Voice Deserves to be Heard\n
LOCATION:Community Hub at the Dock\, 912 Collins Street\, Docklands VIC\, Australia\, VIC\, 3008
RRULE:FREQ=WEEKLY;INTERVAL=1;BYDAY=WE;UNTIL=20260625T000000Z
END:VEVENT
END:VCALENDAR
