BEGIN:VCALENDAR
VERSION:2.0
PRODID:-//My Community Diary//iCal Event//EN
CALSCALE:GREGORIAN
METHOD:PUBLISH
BEGIN:VEVENT
UID:3f89b3ab-34b1-4533-a48f-ee985357d8a3
DTSTAMP:20260422T035626Z
DTSTART:20260707T090000Z
DTEND:20260707T110000Z
SUMMARY:Pancakes by the Beach
DESCRIPTION:Free pancakes by the beach? Yes please! Come hang out on the grass outside Dixon Park Surf Life Saving Club while students and staff from St Philip’s Christian College Cessnock cook up pancakes for the community as part of a service project. They will be there from 9:00am–11:00am on July 7\, 8\, and 9\, 2026. Bring your appetite and a mate!
LOCATION:Dixon Park Surf Life Saving Club\, Dixon Park Surf Life Saving Club\, Ocean Street\, Merewether NSW\, Australia\, NSW
RRULE:FREQ=DAILY;INTERVAL=1;UNTIL=20260710T000000Z
END:VEVENT
END:VCALENDAR
