BEGIN:VCALENDAR
VERSION:2.0
PRODID:-//My Community Diary//iCal Event//EN
CALSCALE:GREGORIAN
METHOD:PUBLISH
BEGIN:VEVENT
UID:b134b2a8-ad07-4650-b1eb-313db054338b
DTSTAMP:20260422T013658Z
DTSTART:20260603T080000Z
DTEND:20260603T170000Z
SUMMARY:Optometry
DESCRIPTION:This event is provided by Outside Optical at Ravenshoe Primary Health Care Centre. Please confirm precise times with the service provider. (www.outsideoptical.com)\nOutside Optical has experience in the following: Three years working in working in remote Indigenous communities
LOCATION:\, 17 Kuradilla Street\, Ravenshoe\, QLD\, 4888\, QLD\, 4888
END:VEVENT
END:VCALENDAR
