BEGIN:VCALENDAR
VERSION:2.0
PRODID:-//My Community Diary//iCal Event//EN
CALSCALE:GREGORIAN
METHOD:PUBLISH
BEGIN:VEVENT
UID:1734bd98-bdd0-4eb4-b5de-d850aba428df
DTSTAMP:20260422T033506Z
DTSTART:20260519T080000Z
DTEND:20260519T170000Z
SUMMARY:Physician - Endocrinology
DESCRIPTION:This event is provided by Thomas Anthony Dover at Bidgerdii Community Health Service - Rockhampton . Please confirm precise times with the service provider.\nThomas Anthony Dover has experience in the following: 5 years of work in my current position for outreach
LOCATION:\, 88 High Street\, Berserker\, QLD\, 4701\, QLD\, 4701
END:VEVENT
END:VCALENDAR
