BEGIN:VCALENDAR
VERSION:2.0
PRODID:-//My Community Diary//iCal Event//EN
CALSCALE:GREGORIAN
METHOD:PUBLISH
BEGIN:VEVENT
UID:9c5e56c8-aef5-416f-a7a8-69aa74c7c6dc
DTSTAMP:20260422T002713Z
DTSTART;TZID=AUS Eastern Standard Time:20260424T100000
DTEND;TZID=AUS Eastern Standard Time:20260424T120000
SUMMARY:Board Games Day
DESCRIPTION:Join us for an afternoon of fun\, laughter and good company!\n\nPlay classic board games\, try something new\, or just come to enjoy the fun!\n\nRegistration is free\, for more information please call 0434 499 759 or email us at laps.bluemountains@sasinc.com.au\n
LOCATION:Self Advocacy Sydney Inc. - Penrith and Blue Mountains\, 29 Station Street\, Penrith NSW 2750\, NSW\, 2750
END:VEVENT
END:VCALENDAR
