BEGIN:VCALENDAR
VERSION:2.0
PRODID:-//My Community Diary//iCal Event//EN
CALSCALE:GREGORIAN
METHOD:PUBLISH
BEGIN:VEVENT
UID:dcca4efb-acf1-43ef-af4a-de17c80c51e1
DTSTAMP:20260421T224127Z
DTSTART;TZID=AUS Eastern Standard Time:20260423T100000
DTEND;TZID=AUS Eastern Standard Time:20260423T120000
SUMMARY:Peer Support
DESCRIPTION:Our Peer Support Program is free for all people with Intellectual Disability.\n\nDuring Peer Support\, participants can learn to\n\n\n	communicate with peers and share their own stories\n	support each other in developing skills\n	learn new things\n	include people with other disabilities in talks\n	work together as a team\n\n\nWe hold weekly sessions on Thursdays from 10am - 12pm.\n\nSign up is free!\n\nFor more information\, please call our office on 0434 499 759 or email us at laps.bluemountains@sasinc.com.au\n
LOCATION:Self Advocacy Sydney Inc. - Penrith and Blue Mountains\, 29 Station Street\, Penrith NSW 2750\, NSW\, 2750
RRULE:FREQ=WEEKLY;INTERVAL=1;BYDAY=TH
END:VEVENT
END:VCALENDAR
