BEGIN:VCALENDAR
VERSION:2.0
PRODID:-//My Community Diary//iCal Event//EN
CALSCALE:GREGORIAN
METHOD:PUBLISH
BEGIN:VEVENT
UID:4beebb77-e5be-4980-a811-21422ce22d25
DTSTAMP:20260422T035550Z
DTSTART:20260502T100000Z
DTEND:20260502T203000Z
SUMMARY:Turkish Lamp Workshop in Newcastle
DESCRIPTION:Looking for something FUN to do in Newcastle? This is it.\nGain hands-on skills as you assemble geometric patterns and lay tesserae.\n"A super fun class! The instructors were extremely helpful. Highly recommended!" \nIncludes Apple tea service with Turkish delights\nCheck website campaigns and secure your spot!\n\nDate: 2-3 May\nSessions: 10 am\, 2 pm\, 6 pm
LOCATION:Newcastle West Apartment Hotel (Ground Floor Meeting Room)\, 787 Hunter St\, Newcastle West NSW 2302\, Australia\, NSW
RRULE:FREQ=DAILY;INTERVAL=1;UNTIL=20260504T000000Z
END:VEVENT
END:VCALENDAR
