BEGIN:VCALENDAR
VERSION:2.0
PRODID:-//My Community Diary//iCal Event//EN
CALSCALE:GREGORIAN
METHOD:PUBLISH
BEGIN:VEVENT
UID:cf06e119-ba57-4f0c-a21b-32822a2adccb
DTSTAMP:20260422T035627Z
DTSTART:20260530T090000Z
DTEND:20260530T153000Z
SUMMARY:Give a Sheet Household Linen Recycling Drop Off Day
DESCRIPTION:City of Newcastle residents can recycle their unwanted bedroom\, bathroom and kitchen linen at our free drop-off event this May.\n\nWe've partnered with Blocktexx\, an Australian recycler that has pioneered innovative technology to separate cotton and polyester from textiles such as bed sheets and bath towels. The recovered fibres will be be made into products such as hydromulch\, new textiles\, and building and construction materials.\n\nThe entire process is undertaken within Australia\, creating jobs and social benefits for Australians.\n\nResidents can use the FREE service to keep their linen waste out of landfill\, helping to build a circular textile economy.\n\nDate: Saturday 30 May 2026\nTime: 9am to 3.30pm\nLocation: Newcastle TAFE Student Car Park\, 266 Maitland Road (opposite Henry Street)\, Tighes Hill
LOCATION:Newcastle TAFE Student Car Park\, 266 Maitland Road (opposite Henry Street)\, Tighes Hill\, Parking lot\, Tighes Hill NSW\, Australia\, NSW
END:VEVENT
END:VCALENDAR
