BEGIN:VCALENDAR
VERSION:2.0
PRODID:-//My Community Diary//iCal Event//EN
CALSCALE:GREGORIAN
METHOD:PUBLISH
BEGIN:VEVENT
UID:481a753d-8d5d-4f35-aabf-31c3ff0f1f3e
DTSTAMP:20260422T071252Z
DTSTART;TZID=AUS Eastern Standard Time:20260430T180000
DTEND;TZID=AUS Eastern Standard Time:20260430T190000
SUMMARY:Lisa Wilkinson: The Titanic Story of Evelyn
DESCRIPTION:An epic and untold true story.\n\n\nThe Titanic Story of Evelyn&nbsp\;reveals the extraordinary life of Evelyn Marsden\, a brave Australian nurse and the only Australian-born survivor of the Titanic disaster. Through Evelyn’s eyes\, this unforgettable story captures both the best and worst of humanity on one of the most tragic nights in modern history.\n\n\nWhen the Titanic sank\, Evelyn was not only a survivor - she was a hero. Amid the chaos and terror\, she worked tirelessly to help others reach safety\, placing herself at the heart of one of the world’s greatest maritime tragedies.\n\n\nExhaustively researched and beautifully written\, Lisa Wilkinson’s first work of historical non-fiction brings new depth and humanity to the Titanic story\, uncovering Evelyn’s remarkable and uniquely Australian journey.\n\n\nIn conversation with journalist Amy Remeikis\, Lisa Wilkinson shares the powerful story of a courageous woman whose legacy deserves to be remembered.\n
LOCATION:National Library of Australia\, Parkes Place West\, Parkes ACT 2600\, ACT
END:VEVENT
END:VCALENDAR
