BEGIN:VCALENDAR
VERSION:2.0
PRODID:-//My Community Diary//iCal Event//EN
CALSCALE:GREGORIAN
METHOD:PUBLISH
BEGIN:VEVENT
UID:307fe538-8773-4156-8923-dccf5ee2f627
DTSTAMP:20260422T013659Z
DTSTART;TZID=E. Australia Standard Time:20260409T060000
DTEND;TZID=E. Australia Standard Time:20260409T211500
SUMMARY:Community Dinner 
DESCRIPTION:We have Community Dinner Every Thursday Night\n\nOur menu is varied&nbsp\; cost is from $12 to $15&nbsp\;&nbsp\;\n\nBeer are $6\n\nLocal wines $25\n\nAll welcome to join our friendly crowd&nbsp\;&nbsp\;\n
LOCATION:Ballandean Hall & Sport Committie\, 28202 New England Highway\, Ballandean QLD 4382\, QLD\, 4382
RRULE:FREQ=WEEKLY;INTERVAL=1;BYDAY=TH
END:VEVENT
END:VCALENDAR
