BEGIN:VCALENDAR
VERSION:2.0
PRODID:-//My Community Diary//iCal Event//EN
CALSCALE:GREGORIAN
METHOD:PUBLISH
BEGIN:VEVENT
UID:caaaf99e-331e-4212-bff6-73c70aac066e
DTSTAMP:20260421T222322Z
DTSTART;TZID=AUS Eastern Standard Time:20260424T093000
DTEND;TZID=AUS Eastern Standard Time:20260424T113000
SUMMARY:Auslan
DESCRIPTION:Learn to sign with this introductory course.\n\nLevel 1 Auslan (Australian Sign Language) course will offer you an introduction to the language used in the Deaf community\, as well as an insight into Deaf Culture.\n\nYou will cover the alphabet\, finger spelling\, greetings\, colours\, transport\, food and numbers as well as everyday conversation.\n
LOCATION:Mordialloc Neighbourhood House\, Mordialloc VIC 3195\, VIC\, 3195
END:VEVENT
END:VCALENDAR
