BEGIN:VCALENDAR
VERSION:2.0
PRODID:-//My Community Diary//iCal Event//EN
CALSCALE:GREGORIAN
METHOD:PUBLISH
BEGIN:VEVENT
UID:36d68530-87ef-4988-a866-976524803b99
DTSTAMP:20260421T211441Z
DTSTART;TZID=AUS Eastern Standard Time:20261113T083000
DTEND;TZID=AUS Eastern Standard Time:20261113T170000
SUMMARY:Wagga Wagga Vinnies Charity Golf Day 2026
DESCRIPTION:Golfers of all skill levels are welcome to take part in the Wagga Wagga Vinnies Charity Golf Day\, played in the four-person Ambrose format with on-course challenges\, great prizes up for grabs\,&nbsp\;live music\, inspiring guest speakers\, a silent auction and a classic barbecue to keep everyone fuelled.&nbsp\;\n\nFunds from this event will be evenly split between Vinnies Wagga Wagga Conferences and Services\, which provide emergency accommodation\, food hampers\, utility bill assistance\, and other vital support for individuals and families\, and the new Vinnies Van.\n
LOCATION:Wagga City Golf Club\, Sturt Hwy\, Wagga Wagga NSW 2650\, NSW\, 2650
END:VEVENT
END:VCALENDAR
