BEGIN:VCALENDAR
VERSION:2.0
PRODID:-//My Community Diary//iCal Event//EN
CALSCALE:GREGORIAN
METHOD:PUBLISH
BEGIN:VEVENT
UID:426a4e90-04e6-4e91-8055-00fdfe2b1229
DTSTAMP:20260422T014705Z
DTSTART;TZID=E. Australia Standard Time:20261002T093000
DTEND;TZID=E. Australia Standard Time:20261002T153000
SUMMARY:Busking in Millmerran 
DESCRIPTION:Busking in Millmerran is a biannual event held in Campbell Street Millmerran.&nbsp\; Held in conjunction with the Australian Camp Oven Festival as a pre-festival event.&nbsp\;\n\nAfter the busking event in the morning of Friday 2 October\, 2026\, Entertainment in the Park is another musical event\, with a band playing in the park in Campbell Street from Noon to 3.30pm&nbsp\;\n\nAs the event comes closer\, registration forms for the Busking will be posted on the association website.&nbsp\;\n
LOCATION:Millmerran \, 18 Campbell Street\, Millmerran QLD\, Australia\, QLD\, 4357
END:VEVENT
END:VCALENDAR
