BEGIN:VCALENDAR
VERSION:2.0
PRODID:-//My Community Diary//iCal Event//EN
CALSCALE:GREGORIAN
METHOD:PUBLISH
BEGIN:VEVENT
UID:b0af08c6-25e9-4ffe-935a-fee7f31d7715
DTSTAMP:20260421T224307Z
DTSTART;TZID=AUS Eastern Standard Time:20260612T120000
DTEND;TZID=AUS Eastern Standard Time:20260612T153000
SUMMARY:Lunch for the Stars with Myf Warhurst
DESCRIPTION:Join us for our 6th Lunch for the Stars at the spectacular Noah's on the Beach\, with Myf Warhurst as our guest speaker!\n\nBeloved Australian broadcaster\, TV presenter\, journalist and writer\, Myf has one of the most recognisable voices in the industry and we cannot wait to have her in the room with us in June!\n\nThis year\, our goal is to raise $30\,000 in vital funds for our Grow a Star program. This unique youth mentoring and scholarship initiative supports young people from disadvantaged backgrounds\, helping remove the financial barriers that stand in the way of their goals.\n\nBy purchasing a ticket\, you are directly helping young people in our region pursue their ambitions and build brighter futures.\n\nTickets are on sale now!\n
LOCATION:Noah's on the Beach\, 29 Zaara Street\, Newcastle East NSW\, Australia\, NSW\, 2300
END:VEVENT
END:VCALENDAR
