BEGIN:VCALENDAR
VERSION:2.0
PRODID:-//My Community Diary//iCal Event//EN
CALSCALE:GREGORIAN
METHOD:PUBLISH
BEGIN:VEVENT
UID:62061790-56ff-4563-aa01-446abd66653b
DTSTAMP:20260422T013826Z
DTSTART:20260504T080000Z
DTEND:20260504T170000Z
SUMMARY:Optometry
DESCRIPTION:This event is provided by Outside Optical at Mamu Health Service - Ravenshoe. Please confirm precise times with the service provider. (www.outsideoptical.com)\nOutside Optical has experience in the following: Three years working in working in remote Indigenous communities
LOCATION:\, 41 Grigg Street\, Ravenshoe\, QLD\, 4888\, QLD\, 4888
END:VEVENT
END:VCALENDAR
