BEGIN:VCALENDAR
VERSION:2.0
PRODID:-//My Community Diary//iCal Event//EN
CALSCALE:GREGORIAN
METHOD:PUBLISH
BEGIN:VEVENT
UID:8160f1dd-63a2-41b2-a18a-240f7a9ae930
DTSTAMP:20260422T013605Z
DTSTART:20260506T080000Z
DTEND:20260506T120000Z
SUMMARY:Optometry
DESCRIPTION:This event is provided by Outside Optical at Ravenshoe Primary Health Care Centre. Please confirm precise times with the service provider. (www.outsideoptical.com)\nOutside Optical has experience in the following: Three years working in working in remote Indigenous communities
LOCATION:\, 17 Kuradilla Street\, Ravenshoe\, QLD\, 4888\, QLD\, 4888
END:VEVENT
END:VCALENDAR
