BEGIN:VCALENDAR
VERSION:2.0
PRODID:-//My Community Diary//iCal Event//EN
CALSCALE:GREGORIAN
METHOD:PUBLISH
BEGIN:VEVENT
UID:8e881ecd-b714-4c14-a8f8-ee1435ee6f8b
DTSTAMP:20260422T013542Z
DTSTART:20260505T080000Z
DTEND:20260505T170000Z
SUMMARY:Optometry
DESCRIPTION:This event is provided by Outside Optical at Mount Garnet Primary Health Centre. Please confirm precise times with the service provider. (www.outsideoptical.com)\nOutside Optical has experience in the following: Three years working in working in remote Indigenous communities
LOCATION:\, 2 Galena St\, Mount Garnet\, QLD\, 4872\, QLD\, 4872
END:VEVENT
END:VCALENDAR
