BEGIN:VCALENDAR
VERSION:2.0
PRODID:-//My Community Diary//iCal Event//EN
CALSCALE:GREGORIAN
METHOD:PUBLISH
BEGIN:VEVENT
UID:df1fddb7-c592-44b3-9800-79c026d0084e
DTSTAMP:20260421T222624Z
DTSTART;TZID=E. Australia Standard Time:20260501T110000
DTEND;TZID=E. Australia Standard Time:20260501T123000
SUMMARY:Make a Matcha Ritual Set Class
DESCRIPTION:You must book before attending. To learn more about this class and to book\, \n                                    please visit ClassBento's website via the 'Access Event' button above.
LOCATION:\, 161 Long Road\, Tamborine Mountain QLD\, QLD\, 4272
END:VEVENT
END:VCALENDAR
