BEGIN:VCALENDAR
VERSION:2.0
PRODID:-//My Community Diary//iCal Event//EN
CALSCALE:GREGORIAN
METHOD:PUBLISH
BEGIN:VEVENT
UID:b5f278ca-eda8-4ebe-b3e6-2d38e7f1ed8f
DTSTAMP:20260422T001013Z
DTSTART;TZID=E. Australia Standard Time:20260629T143000
DTEND;TZID=E. Australia Standard Time:20260629T160000
SUMMARY:Paint and Spin Wheel Throwing Class
DESCRIPTION:You must book before attending. To learn more about this class and to book\, \n                                    please visit ClassBento's website via the 'Access Event' button above.
LOCATION:\, 161 Long Road\, Tamborine Mountain QLD\, QLD\, 4272
END:VEVENT
END:VCALENDAR
