BEGIN:VCALENDAR
VERSION:2.0
PRODID:-//My Community Diary//iCal Event//EN
CALSCALE:GREGORIAN
METHOD:PUBLISH
BEGIN:VEVENT
UID:8a17ccdd-ddd1-4e45-93ff-a965a69d7c4c
DTSTAMP:20260422T002935Z
DTSTART;TZID=E. Australia Standard Time:20260623T093000
DTEND;TZID=E. Australia Standard Time:20260623T130000
SUMMARY:Sewing Machine Workshop
DESCRIPTION:You must book before attending. To learn more about this class and to book\, \n                                    please visit ClassBento's website via the 'Access Event' button above.
LOCATION:\, 3/20 Ann Street\, Nambour QLD\, QLD\, 4560
END:VEVENT
END:VCALENDAR
