BEGIN:VCALENDAR
VERSION:2.0
PRODID:-//My Community Diary//iCal Event//EN
CALSCALE:GREGORIAN
METHOD:PUBLISH
BEGIN:VEVENT
UID:535fcce6-a3c4-48b2-a3b7-5b681f1dc9f1
DTSTAMP:20260422T050228Z
DTSTART;TZID=E. Australia Standard Time:20260628T130000
DTEND;TZID=E. Australia Standard Time:20260628T153000
SUMMARY:Macrame Pot Holder Workshop
DESCRIPTION:You must book before attending. To learn more about this class and to book\, \n                                    please visit ClassBento's website via the 'Access Event' button above.
LOCATION:\, Peddly Picnics\, Main Street\, Tamborine Mountain QLD\, QLD\, 4272
END:VEVENT
END:VCALENDAR
