BEGIN:VCALENDAR
VERSION:2.0
PRODID:-//My Community Diary//iCal Event//EN
CALSCALE:GREGORIAN
METHOD:PUBLISH
BEGIN:VEVENT
UID:77ebcd78-f642-4eec-bbd3-3a56a487b596
DTSTAMP:20260422T032432Z
DTSTART;TZID=E. Australia Standard Time:20260510T140000
DTEND;TZID=E. Australia Standard Time:20260510T163000
SUMMARY:Turkish Mosaic Lamp Class in Toowoomba
DESCRIPTION:You must book before attending. To learn more about this class and to book\, \n                                    please visit ClassBento's website via the 'Access Event' button above.
LOCATION:\, Club Toowoomba(Ballymore Room)\, Hume Street\, South Toowoomba QLD\, QLD\, 4350
END:VEVENT
END:VCALENDAR
