BEGIN:VCALENDAR
VERSION:2.0
PRODID:-//My Community Diary//iCal Event//EN
CALSCALE:GREGORIAN
METHOD:PUBLISH
BEGIN:VEVENT
UID:ecd260ab-834c-430f-825f-01ce3b9ade2b
DTSTAMP:20260421T223151Z
DTSTART;TZID=E. Australia Standard Time:20260617T093000
DTEND;TZID=E. Australia Standard Time:20260617T130000
SUMMARY:Sewing Machine Workshop
DESCRIPTION:You must book before attending. To learn more about this class and to book\, \n                                    please visit ClassBento's website via the 'Access Event' button above.
LOCATION:\, 3/20 Ann Street\, Nambour QLD\, QLD\, 4560
END:VEVENT
END:VCALENDAR
