BEGIN:VCALENDAR
VERSION:2.0
PRODID:-//My Community Diary//iCal Event//EN
CALSCALE:GREGORIAN
METHOD:PUBLISH
BEGIN:VEVENT
UID:d1c86333-701e-44f2-8bf6-6822e4362730
DTSTAMP:20260421T222636Z
DTSTART;TZID=E. Australia Standard Time:20260627T084500
DTEND;TZID=E. Australia Standard Time:20260627T140000
SUMMARY:Sourdough Bread Making Workshop
DESCRIPTION:You must book before attending. To learn more about this class and to book\, \n                                    please visit ClassBento's website via the 'Access Event' button above.
LOCATION:\, 34 Buderim Pines Drive\, Buderim QLD\, QLD\, 4556
END:VEVENT
END:VCALENDAR
