BEGIN:VCALENDAR
VERSION:2.0
PRODID:-//My Community Diary//iCal Event//EN
CALSCALE:GREGORIAN
METHOD:PUBLISH
BEGIN:VEVENT
UID:3885d379-fd80-4b44-92e1-2eb47a74ef7b
DTSTAMP:20260421T205557Z
DTSTART;TZID=E. Australia Standard Time:20260627T110000
DTEND;TZID=E. Australia Standard Time:20260627T130000
SUMMARY:Soy Candle Making Class: Crystals and Botanicals
DESCRIPTION:You must book before attending. To learn more about this class and to book\, \n                                    please visit ClassBento's website via the 'Access Event' button above.
LOCATION:\, Peddly Picnics\, Main Street\, Tamborine Mountain QLD\, QLD\, 4272
END:VEVENT
END:VCALENDAR
