BEGIN:VCALENDAR
VERSION:2.0
PRODID:-//My Community Diary//iCal Event//EN
CALSCALE:GREGORIAN
METHOD:PUBLISH
BEGIN:VEVENT
UID:91b65c38-0a17-472f-bf90-295989460783
DTSTAMP:20260422T013734Z
DTSTART;TZID=AUS Eastern Standard Time:20260502T110000
DTEND;TZID=AUS Eastern Standard Time:20260502T120000
SUMMARY:Sea Glass Workshop
DESCRIPTION:Create a framed masterpiece using sea glass\, shells\, driftwood (materials supplied) in time for Mothers Day\n\n&nbsp\;\n\nCost $20\n
LOCATION:Mordialloc Neighbourhood House\, Mordialloc VIC 3195\, VIC\, 3195
END:VEVENT
END:VCALENDAR
